BEGIN:VCALENDAR
VERSION:2.0
PRODID:-//Service Brewing - ECPv6.15.20//NONSGML v1.0//EN
CALSCALE:GREGORIAN
METHOD:PUBLISH
X-ORIGINAL-URL:https://servicebrewing.com
X-WR-CALDESC:Events for Service Brewing
REFRESH-INTERVAL;VALUE=DURATION:PT1H
X-Robots-Tag:noindex
X-PUBLISHED-TTL:PT1H
BEGIN:VTIMEZONE
TZID:America/New_York
BEGIN:DAYLIGHT
TZOFFSETFROM:-0500
TZOFFSETTO:-0400
TZNAME:EDT
DTSTART:20250309T070000
END:DAYLIGHT
BEGIN:STANDARD
TZOFFSETFROM:-0400
TZOFFSETTO:-0500
TZNAME:EST
DTSTART:20251102T060000
END:STANDARD
BEGIN:DAYLIGHT
TZOFFSETFROM:-0500
TZOFFSETTO:-0400
TZNAME:EDT
DTSTART:20260308T070000
END:DAYLIGHT
BEGIN:STANDARD
TZOFFSETFROM:-0400
TZOFFSETTO:-0500
TZNAME:EST
DTSTART:20261101T060000
END:STANDARD
BEGIN:DAYLIGHT
TZOFFSETFROM:-0500
TZOFFSETTO:-0400
TZNAME:EDT
DTSTART:20270314T070000
END:DAYLIGHT
BEGIN:STANDARD
TZOFFSETFROM:-0400
TZOFFSETTO:-0500
TZNAME:EST
DTSTART:20271107T060000
END:STANDARD
BEGIN:DAYLIGHT
TZOFFSETFROM:-0500
TZOFFSETTO:-0400
TZNAME:EDT
DTSTART:20280312T070000
END:DAYLIGHT
BEGIN:STANDARD
TZOFFSETFROM:-0400
TZOFFSETTO:-0500
TZNAME:EST
DTSTART:20281105T060000
END:STANDARD
END:VTIMEZONE
BEGIN:VEVENT
DTSTART;TZID=America/New_York:20260425T120000
DTEND;TZID=America/New_York:20270425T130000
DTSTAMP:20260425T120514
CREATED:20251212T192455Z
LAST-MODIFIED:20260422T205706Z
UID:29359-1777118400-1808658000@servicebrewing.com
SUMMARY:Beer & Yoga - Last Saturday of Every Month
DESCRIPTION:Earn that beer with Savannah Power Yoga every month at Service Brewing.\n$15 includes a 60 min vinyasa yoga class and one pint of BEER! Be sure to bring your mat and feel free to come as early as 11:30AM.\nClass starts promptly at noon. Our little brew cat\, Black Hawk\, will be onsite checking poses and looking for back scratches. Nama-stay for a beer!\n\n2026 Dates:Jan 31st | Feb 28th | March 28th | April 25th | May 30th | June 27th | July 18th | Aug 29th | Sept 26th | Oct 31st | Nov 28th | Dec 19th
URL:https://servicebrewing.com/event/beer-yoga-savannah-2026/
LOCATION:Service Brewing\, 574 Indian St.\, Savannah\, GA\, 31401\, United States
CATEGORIES:Event,Wellness,Yoga
ATTACH;FMTTYPE=image/jpeg:https://servicebrewing.com/wp-content/uploads/2025/12/Header-29.jpg
END:VEVENT
BEGIN:VEVENT
DTSTART;TZID=America/New_York:20260510T120000
DTEND;TZID=America/New_York:20260510T140000
DTSTAMP:20260425T120514
CREATED:20260323T172415Z
LAST-MODIFIED:20260407T185609Z
UID:29540-1778414400-1778421600@servicebrewing.com
SUMMARY:Beads and Brews with Lou Bangle
DESCRIPTION:Join us for a special Mother’s Day edition of Beads and Brews with Lou Bangle on Sunday\, May 10th from 12-2pm. Enjoy a cold beer paired with a bead-stringing workshop with Melissa Livingston of Lou Bangle! Learn how to arrange beads\, create a color selection\, knot tying and more. \n$45 workshop includes: one pint of beer\, beading class\, and all the supplies needed to create TWO custom bracelets. \nAll levels and ages are welcome. \nFor participants under 21\, a free non-alcoholic beverage will be provided in place of the beer. \nGet tickets
URL:https://servicebrewing.com/event/beads-and-brews-lou-bangle/
LOCATION:Service Brewing\, 574 Indian St.\, Savannah\, GA\, 31401\, United States
CATEGORIES:Event,Workshop
ATTACH;FMTTYPE=image/jpeg:https://servicebrewing.com/wp-content/uploads/2026/03/BeadNBrews-HDR-scaled.jpg
END:VEVENT
BEGIN:VEVENT
DTSTART;TZID=America/New_York:20260524T150000
DTEND;TZID=America/New_York:20260524T180000
DTSTAMP:20260425T120514
CREATED:20260422T205630Z
LAST-MODIFIED:20260422T205630Z
UID:29583-1779634800-1779645600@servicebrewing.com
SUMMARY:Skate Pop Up benefiting 912 Skaters Coalition
DESCRIPTION:Join us on Sunday\, May 24th from 3-6pm for a Skate Pop Up benefiting 912 Skaters Coalition.\n$10 donation – proceeds benefit Skaters Coalition \nFood truck: TBA
URL:https://servicebrewing.com/event/skate-pop-up-may-26/
LOCATION:Service Brewing\, 574 Indian St.\, Savannah\, GA\, 31401\, United States
CATEGORIES:Event
ATTACH;FMTTYPE=image/jpeg:https://servicebrewing.com/wp-content/uploads/2026/04/Header-56-scaled.jpg
END:VEVENT
BEGIN:VEVENT
DTSTART;TZID=America/New_York:20260606T120000
DTEND;TZID=America/New_York:20260606T180000
DTSTAMP:20260425T120514
CREATED:20260406T191723Z
LAST-MODIFIED:20260415T143234Z
UID:29563-1780747200-1780768800@servicebrewing.com
SUMMARY:Feels Like Summer Gift Market
DESCRIPTION:Sip on a cold beer and shop local at the Feels Like Summer Gift Market on Saturday June 6th from 12-6pm. Meet over 50 makers\, artisans\, retailers selling unique products\, handmade good and take home something you won’t find anywhere else. This indoor event is great for the family with food truck\, great music\, outdoor seating and plenty of beer! \nFree admission and family & pet friendly. \nFood truck: Orale Tacos
URL:https://servicebrewing.com/event/feels-like-summer-2026/
LOCATION:Service Brewing\, 574 Indian St.\, Savannah\, GA\, 31401\, United States
CATEGORIES:Event,Maker Market
ATTACH;FMTTYPE=image/jpeg:https://servicebrewing.com/wp-content/uploads/2026/04/Header-51-scaled.jpg
END:VEVENT
BEGIN:VEVENT
DTSTART;TZID=America/New_York:20260620T120000
DTEND;TZID=America/New_York:20260620T133000
DTSTAMP:20260425T120514
CREATED:20260408T150406Z
LAST-MODIFIED:20260417T140911Z
UID:29570-1781956800-1781962200@servicebrewing.com
SUMMARY:Celebrate International Yoga Day With Free Yoga and Sound Bath
DESCRIPTION:Save the Date! We’re celebrating International Yoga Day on Saturday\, June 20th from 12-1:30pm with a FREE yoga class! Help us give a toast to our community and the many studios and instructors in our beautiful city and surrounding area. \nCommunity Yoga Ambassador\, Jessie Gulliver has a special day planned that includes yoga\, raffle prizes\, live music\, and a sound bath. \nHere are the details: \n-Event is from 12-1:30pm \n-Hour and half experience includes: round robin style yoga class\, live music and sound bath. \n-Doors open at 11:00am \n-Be sure to bring your yoga mat\, water bottle and any props you may need. \n-No reservation required. All ages and levels welcome. \n-Pets are not allowed in yoga event space but are welcome in the tap room. \n-Each participant will receive a raffle ticket for a chance to win some exciting prizes! \n-Food Truck: Naked Dog
URL:https://servicebrewing.com/event/international-yoga-day-2026/
LOCATION:Service Brewing\, 574 Indian St.\, Savannah\, GA\, 31401\, United States
CATEGORIES:Event
ATTACH;FMTTYPE=image/jpeg:https://servicebrewing.com/wp-content/uploads/2026/04/Header-53-scaled.jpg
END:VEVENT
BEGIN:VEVENT
DTSTART;TZID=America/New_York:20260628T140000
DTEND;TZID=America/New_York:20260628T160000
DTSTAMP:20260425T120514
CREATED:20260408T145210Z
LAST-MODIFIED:20260408T154157Z
UID:29567-1782655200-1782662400@servicebrewing.com
SUMMARY:Tiny Dog Meet Up
DESCRIPTION:CALLING ALL TINY DOGS! Don’t miss out on our Tiny Dog Meet Up on Sunday\, June 28th from 2-4pm at Service Brewing! This pint sized pooch event is free and the ONLY rules are: your tiny dog must be tiny\, 15lbs or less! \nWe’ll have a safe indoor play area for pups to run off leash\, socialize and toss all the toys! Enjoy a beer and experience an overload of cute! \nFamily friendly \nFood truck: TBA
URL:https://servicebrewing.com/event/tiny-dog-meet-up-june-2026/
LOCATION:Service Brewing\, 574 Indian St.\, Savannah\, GA\, 31401\, United States
CATEGORIES:Event,Tiny Dog Meet Up
ATTACH;FMTTYPE=image/jpeg:https://servicebrewing.com/wp-content/uploads/2026/04/Header-52-scaled.jpg
END:VEVENT
END:VCALENDAR