BEGIN:VCALENDAR
VERSION:2.0
PRODID:-//Service Brewing - ECPv6.15.20//NONSGML v1.0//EN
CALSCALE:GREGORIAN
METHOD:PUBLISH
X-ORIGINAL-URL:https://servicebrewing.com
X-WR-CALDESC:Events for Service Brewing
REFRESH-INTERVAL;VALUE=DURATION:PT1H
X-Robots-Tag:noindex
X-PUBLISHED-TTL:PT1H
BEGIN:VTIMEZONE
TZID:America/New_York
BEGIN:DAYLIGHT
TZOFFSETFROM:-0500
TZOFFSETTO:-0400
TZNAME:EDT
DTSTART:20150308T070000
END:DAYLIGHT
BEGIN:STANDARD
TZOFFSETFROM:-0400
TZOFFSETTO:-0500
TZNAME:EST
DTSTART:20151101T060000
END:STANDARD
BEGIN:DAYLIGHT
TZOFFSETFROM:-0500
TZOFFSETTO:-0400
TZNAME:EDT
DTSTART:20160313T070000
END:DAYLIGHT
BEGIN:STANDARD
TZOFFSETFROM:-0400
TZOFFSETTO:-0500
TZNAME:EST
DTSTART:20161106T060000
END:STANDARD
BEGIN:DAYLIGHT
TZOFFSETFROM:-0500
TZOFFSETTO:-0400
TZNAME:EDT
DTSTART:20170312T070000
END:DAYLIGHT
BEGIN:STANDARD
TZOFFSETFROM:-0400
TZOFFSETTO:-0500
TZNAME:EST
DTSTART:20171105T060000
END:STANDARD
BEGIN:DAYLIGHT
TZOFFSETFROM:-0500
TZOFFSETTO:-0400
TZNAME:EDT
DTSTART:20180311T070000
END:DAYLIGHT
BEGIN:STANDARD
TZOFFSETFROM:-0400
TZOFFSETTO:-0500
TZNAME:EST
DTSTART:20181104T060000
END:STANDARD
BEGIN:DAYLIGHT
TZOFFSETFROM:-0500
TZOFFSETTO:-0400
TZNAME:EDT
DTSTART:20190310T070000
END:DAYLIGHT
BEGIN:STANDARD
TZOFFSETFROM:-0400
TZOFFSETTO:-0500
TZNAME:EST
DTSTART:20191103T060000
END:STANDARD
END:VTIMEZONE
BEGIN:VTIMEZONE
TZID:UTC
BEGIN:STANDARD
TZOFFSETFROM:+0000
TZOFFSETTO:+0000
TZNAME:UTC
DTSTART:20140101T000000
END:STANDARD
END:VTIMEZONE
BEGIN:VEVENT
DTSTART;TZID=America/New_York:20181103T120000
DTEND;TZID=America/New_York:20181103T170000
DTSTAMP:20260425T231625
CREATED:20181102T002501Z
LAST-MODIFIED:20181102T002501Z
UID:23871-1541246400-1541264400@servicebrewing.com
SUMMARY:Learn How To Home Brew and Watch Army vs. Air Force Football Game!
DESCRIPTION:Whether you are running or cheering on the Rock N’ Roll Marathoners come down to Service Brewing for an exciting Day! \nLearn to home-brew with the Savannah Hombrewer’s League! \nWatch Army vs. Air Force football and enjoy some great beer.  Lincoln’s Gift anyone? \nSound On! Army vs. Air Force live on the taproom big screen!  Games starts at 12pm
URL:https://servicebrewing.com/event/learn-how-to-home-brew-and-watch-army-vs-air-force-football-game/
CATEGORIES:Beer Release,Education,Event,Sports Games
ATTACH;FMTTYPE=image/jpeg:https://servicebrewing.com/wp-content/uploads/2018/11/armyair-scaled.jpg
END:VEVENT
BEGIN:VEVENT
DTSTART;TZID=America/New_York:20181027T110000
DTEND;TZID=America/New_York:20181027T123000
DTSTAMP:20260425T231625
CREATED:20181012T150732Z
LAST-MODIFIED:20181012T150732Z
UID:23804-1540638000-1540643400@servicebrewing.com
SUMMARY:Yoga for Oatland Island with feathered friends\, food\, and fresh beer!!
DESCRIPTION:Ground down your paws and stretch your claws for this exciting Friends of Oatland Fundraiser. Join us for a personal meet and greet session with one of the Oatland Island feathered friends before you get on your mat!The one hour yoga class will be lead by the amazing Biza Mabry and we will finish our practice by sharing a toast with your complimentary craft beer by Service Brewing Company.Dark Shark food truck will also be onsite for an after workout chow down and you can purchase additional beverages to drink or take home at an additional cost.  Event Schedule10:45am- Doors Open at Service Brewing Company11:00am-11:30am- Welcome and a special meet and greet with a feathered Oatland Island friend11:30am- 12:30pm- Yoga led by Biza Mabry12:30pm- NAMA-STAY for a Complimentary Service Beer (included in Ticket purchase)12:00pm-3:00pm Dark Shark Taco Truck slinging tacos and other noms. 10% of their sales will go to Paws and Claws United too!Pre-sale tickets can be purchased for $21 until October 25th.Same day tickets can be purchased at the door for $25 cash only.A portion of your ticket price will go towards the rebuilding efforts at Oatland after the tornado damage from July 27th.Come join us for this relaxing day and help Oatland Island get back on their Paws! We look forward to seeing you on the mat!
URL:https://servicebrewing.com/event/yoga-for-oatland-island-with-feathered-friends-food-and-fresh-beer/
CATEGORIES:Event
ATTACH;FMTTYPE=image/jpeg:https://servicebrewing.com/wp-content/uploads/2018/10/pawsclaws.jpg
END:VEVENT
BEGIN:VEVENT
DTSTART;TZID=America/New_York:20181013T120000
DTEND;TZID=America/New_York:20181013T210000
DTSTAMP:20260425T231625
CREATED:20181006T021913Z
LAST-MODIFIED:20181006T021913Z
UID:23797-1539432000-1539464400@servicebrewing.com
SUMMARY:Slack Jack Barrel Aged Quad Release with Bow Tie BBQ and Anders Thomsen Trio
DESCRIPTION:Join us on October 13th as we launch the first of our Brewer’s Reserve Barrel Aged Series\, Slack Jack Quad. You may remember the Brewer’s Release No.1 Quad we released this past January. Well\, Slack Jack is that same 9.6% Quad brewed with dates\, raisins\, and fennel seed\, but aged in two diferent barrels\, Virgin American Oak and Buffalo Trace Bourbon. Over the past 8 months\, we tasted each barrel and with every tasting\, we found ourselves loving the complexity that both barrels contributed to the aroma\, flavors and finish of the beer.  Slack Jack Quad is avaible in a mix 4 pack\, two cans of Bourbon Barrel aged Quad and two cans of the American Oak barrel aged Quad. Drink them individually or bring out your inner mixologist and have fun blending them. It took a good bit of patience to hold out 8 months with these\, but we are really excited to share the results with all of you.  Food Truck: noon- 3pm BowTie Barbecue Co. On stage: 1pm-4pm: Anders Thomsen Trio
URL:https://servicebrewing.com/event/slack-jack-barrel-aged-quad-release-with-bow-tie-bbq-and-anders-thomsen-trio/
CATEGORIES:Beer Release,Event,Live Music
ATTACH;FMTTYPE=image/jpeg:https://servicebrewing.com/wp-content/uploads/2018/10/slackjackfb2.jpg
END:VEVENT
BEGIN:VEVENT
DTSTART;TZID=America/New_York:20180525T160000
DTEND;TZID=America/New_York:20180525T210000
DTSTAMP:20260425T231625
CREATED:20180508T224643Z
LAST-MODIFIED:20180508T224643Z
UID:23207-1527264000-1527282000@servicebrewing.com
SUMMARY:Savannah Bananas Cerveza Fiesta with Qwister and Big Bon Pizza!
DESCRIPTION:It’s about that time when we all Go Bananas! Join us with our friends\, The Savannah Bananas\, at Service Brewing May 25th\, as we kickoff the 2018 season with the Savannah Bananas Cerveza! \nCrisp and refreshing\, this light lager is perfect for the hot summer nights at Grayson Stadium. And don’t worry\, no bananas were spit during the making of this beer! \nWe welcome back musical guest\, Qwister! Experience the positive vibes from this high energy New York based Reggae Party-Rockers. These guys are medleys galore! Filled with your favorite hits\, old and new\, and intertwined with up beat and danceable originals! On stage at 5:30pm. \nBig Bon Pizza will be slinging pies from thier mobile wood-fire pizza truck from 5:30-8:30pm! \nVamos Plátanos!!! \nMust be 21
URL:https://servicebrewing.com/event/qwister-is-back-on-stage-at-service-brewing/
CATEGORIES:Beer Release,Event,Live Music
ATTACH;FMTTYPE=image/jpeg:https://servicebrewing.com/wp-content/uploads/2018/05/banana-release-18.jpg
END:VEVENT
BEGIN:VEVENT
DTSTART;TZID=America/New_York:20180512T120000
DTEND;TZID=America/New_York:20180512T160000
DTSTAMP:20260425T231625
CREATED:20180508T223908Z
LAST-MODIFIED:20180508T223908Z
UID:23202-1526126400-1526140800@servicebrewing.com
SUMMARY:Gun Bunny Wit Can Release
DESCRIPTION:Gun Bunny Wit is back for the summer! Join us for the Can Release Party this Saturday\, May 12th!\nLoaded with Tangelo peel\, sweet Mandarin Orange and a touch of Indian Coriander Seed\, this crushable witbier is made for the summer. \nMusic:\nLaiken Love & Fellowship of Love will join the party singing our favorite pop tunes from the 80’s\, 90’s\, and 2000’s.\nFood:\nDark Shark – Taco Attack food truck will be parked out front serving tacos with a special Gun Bunny pairing. \nCharity: Team Red\, White & Blue \n***If you want to earn your first beer\, Pure Barre will be offering a FREE class that starts promptly at 11:30 Saturday morning. **** \nMust be 21
URL:https://servicebrewing.com/event/gun-bunny-wit-can-release/
CATEGORIES:Beer Release,Event,Live Music
ATTACH;FMTTYPE=image/jpeg:https://servicebrewing.com/wp-content/uploads/2018/05/gb-release-18-scaled.jpg
END:VEVENT
BEGIN:VEVENT
DTSTART;TZID=America/New_York:20180214T170000
DTEND;TZID=America/New_York:20180214T210000
DTSTAMP:20260425T231625
CREATED:20180129T233659Z
LAST-MODIFIED:20180129T233659Z
UID:22938-1518627600-1518642000@servicebrewing.com
SUMMARY:For the Love of Beer
DESCRIPTION:Beer\, Pizza and live music! What more could you want on a day that is so full of love! Join us on Wednesday\, February 14th\, from 5-9pm with our friends\, Big Bon Pizza\, to celebrate Valentine’s Day! If you are single\, we don’t care\, come and mingle! If you are married or have a special someone\, that’s cool. If you have a crush and want to impress them\, do it with a beer! If you love your dog\, bring them\, but share your pizza crust.\n\n\nIsaac Smith will be on stage and A SQUAD BAKE SHOP has a special treat to pair with our small batch Chocolate Cherry Stout\, brewed special for this event. \n\n\n \n\n\nDraft menu TBA\, stay tuned! \n\n\nDoors open at 4pm\, Pizzas can be ordered at 5pm\n\n\nNo cover and no reservations needed : MUST BE 21
URL:https://servicebrewing.com/event/for-the-love-of-beer/
CATEGORIES:Event
ATTACH;FMTTYPE=image/jpeg:https://servicebrewing.com/wp-content/uploads/2018/01/vday2018-scaled.jpg
END:VEVENT
BEGIN:VEVENT
DTSTART;TZID=America/New_York:20170511T170000
DTEND;TZID=America/New_York:20170511T210000
DTSTAMP:20260425T231625
CREATED:20170427T200218Z
LAST-MODIFIED:20170427T200218Z
UID:20101-1494522000-1494536400@servicebrewing.com
SUMMARY:Tiny House Big Heart Fundraiser
DESCRIPTION:Same Great Opportunity To Support The Tiny House Project On A New Day!! \nJoin us May 11th 2017 from 5:00pm – 9:00pm at Ships of the Sea Museum for the first community fundraiser for Chatham Savannah Authority for the Homeless Tiny House Project for Homeless Veterans. \nService Brewing Co\, Ships of the Sea\, and Judge Realty have teamed up to help CSAH raise the first land payment of $30\,000 for the Tiny House Project. This land will not only provide the future grounds for the neighborhood of Tiny Houses\, it will plant the foundation of community and healing for our veterans with resources available such as an organic garden\, three club houses for community meals\, workshops and health and wellness programs. We can all help make a difference in the quality of life for these men and women who have served our country. \nMany creative community partners have come together to make this event a success. Chef Lauren Teague of Atlantic as well as the pizza queens of Big Bon Pizza will be cooking for a cause. Come out and enjoy an evening with great food\, drinks\, music\, and fundraising to benefit the Tiny House Project for Homeless Veterans. \nTickets availble on Eventbrite.\n$10 tickets includes: Door Prize Ticket\, One Service Brewing Beer Ticket \n*** Can’t make the event but would like to support. \nDonations can be mailed to: CSAH\, 761 Wheaton St\, Savannah GA 31412 \nMake checks payable to CSAH Tiny House Project \nmemo: Tiny House Big Heart \nPlease include Name\, Address\, and Contact Info so we can send you Donor Acknowledgment Letter.
URL:https://servicebrewing.com/event/tiny-house-big-heart-fundraiser/
CATEGORIES:Event
ATTACH;FMTTYPE=image/jpeg:https://servicebrewing.com/wp-content/uploads/2017/04/thpnew.jpeg
END:VEVENT
BEGIN:VEVENT
DTSTART;TZID=America/New_York:20161121T180000
DTEND;TZID=America/New_York:20161121T220000
DTSTAMP:20260425T231625
CREATED:20161109T052845Z
LAST-MODIFIED:20161109T052845Z
UID:18761-1479751200-1479765600@servicebrewing.com
SUMMARY:Friendsgiving Celebration
DESCRIPTION:It’s time to throw a party for all the awesome folks out there slinging our beer everyday! Join us at the brewery for “Friendsgiving\,” Nov 21 from 6:00 – 10:00pm to celebrate all of the bars\, restaurants and package stores that have helped us grow\, make great beer\, and give back to all the deserving charities we have supported since 2014.\nBring your proof of employment in the Service Industry (bar\, restaurant\, off premise alcohol retail) to receive a FREE 36 oz Beer Tasting\, Tour and a really cool souvenir glass.\nThis party is for everyone! Tours will be available to purchase for non-industry folks.\nDJ Jose Ray will be spinning vinyl hits from the 70’s\, 80’s\, 90’s and today.\nDark Shark – Taco Attack and Chazito’s Cuisine will be parked out front selling delicious bites all night. \nMust be 21 \nReach out to info@servicebrewing.com if you have any questions.
URL:https://servicebrewing.com/event/friendsgiving-celebration/
CATEGORIES:Event
ATTACH;FMTTYPE=image/jpeg:https://servicebrewing.com/wp-content/uploads/2016/11/friendsgivingfb-scaled.jpeg
END:VEVENT
BEGIN:VEVENT
DTSTART;TZID=UTC:20160917T120000
DTEND;TZID=UTC:20160917T170000
DTSTAMP:20260425T231625
CREATED:20160914T180353Z
LAST-MODIFIED:20160914T180353Z
UID:17534-1474113600-1474131600@servicebrewing.com
SUMMARY:Oktoberfest Party
DESCRIPTION:Join Service Brewing to kickoff Oktoberfest! This celebration will take place Saturday\, September 17th\, the official start of Germany’s largest beer festival\, from 12:00p.m.– 5:00p.m. \nIn true tradition of the Oktoberfest celebration\, SBC introduces Teufel Hunden\, an Oktoberfest-style Märzen. This classic German lager holds a deep copper hue\, a toasted malt aroma and a clean dry finish and is a limited release brew in celebration of the upcoming fall season. \nDuring the event\, CEO\, Kevin Ryan\, will man the grill serving his infamous beer brats and sauerkraut for donations to go towards Chatham Savannah Authority for the Homeless\, Tiny House Project for Homeless Veterans. Other highlights for the evening will be musical talent American Hologram and a raffle of special Service merchandise every 30 minutes. \nTour and Tasting packages start at $12. Visit our website for more information www.servicebrewing.com \nMUST BE 21 with valid ID to attend the event
URL:https://servicebrewing.com/event/oktoberfest-party/
CATEGORIES:Event
ATTACH;FMTTYPE=image/jpeg:https://servicebrewing.com/wp-content/uploads/2016/09/octoberfest-banner-scaled.jpg
END:VEVENT
BEGIN:VEVENT
DTSTART;TZID=UTC:20150404T120000
DTEND;TZID=UTC:20150404T150000
DTSTAMP:20260425T231625
CREATED:20160728T183625Z
LAST-MODIFIED:20160728T183625Z
UID:10565-1428148800-1428159600@servicebrewing.com
SUMMARY:Tybee Island Social Club
DESCRIPTION:Brews and BBQ!  What a great way to spend a Saturday!  Enjoy some great Service Craft on Tybee this weekend at Social on Tybee
URL:https://servicebrewing.com/event/tybee-island-social-club/
CATEGORIES:Event
ATTACH;FMTTYPE=image/png:https://servicebrewing.com/wp-content/uploads/2016/07/75f979_3510b215c6314dbb846bee17a0591cd7.png
END:VEVENT
END:VCALENDAR