BEGIN:VCALENDAR
VERSION:2.0
PRODID:-//Service Brewing - ECPv6.15.20//NONSGML v1.0//EN
CALSCALE:GREGORIAN
METHOD:PUBLISH
X-ORIGINAL-URL:https://servicebrewing.com
X-WR-CALDESC:Events for Service Brewing
REFRESH-INTERVAL;VALUE=DURATION:PT1H
X-Robots-Tag:noindex
X-PUBLISHED-TTL:PT1H
BEGIN:VTIMEZONE
TZID:America/New_York
BEGIN:DAYLIGHT
TZOFFSETFROM:-0500
TZOFFSETTO:-0400
TZNAME:EDT
DTSTART:20180311T070000
END:DAYLIGHT
BEGIN:STANDARD
TZOFFSETFROM:-0400
TZOFFSETTO:-0500
TZNAME:EST
DTSTART:20181104T060000
END:STANDARD
BEGIN:DAYLIGHT
TZOFFSETFROM:-0500
TZOFFSETTO:-0400
TZNAME:EDT
DTSTART:20190310T070000
END:DAYLIGHT
BEGIN:STANDARD
TZOFFSETFROM:-0400
TZOFFSETTO:-0500
TZNAME:EST
DTSTART:20191103T060000
END:STANDARD
BEGIN:DAYLIGHT
TZOFFSETFROM:-0500
TZOFFSETTO:-0400
TZNAME:EDT
DTSTART:20200308T070000
END:DAYLIGHT
BEGIN:STANDARD
TZOFFSETFROM:-0400
TZOFFSETTO:-0500
TZNAME:EST
DTSTART:20201101T060000
END:STANDARD
BEGIN:DAYLIGHT
TZOFFSETFROM:-0500
TZOFFSETTO:-0400
TZNAME:EDT
DTSTART:20210314T070000
END:DAYLIGHT
BEGIN:STANDARD
TZOFFSETFROM:-0400
TZOFFSETTO:-0500
TZNAME:EST
DTSTART:20211107T060000
END:STANDARD
BEGIN:DAYLIGHT
TZOFFSETFROM:-0500
TZOFFSETTO:-0400
TZNAME:EDT
DTSTART:20220313T070000
END:DAYLIGHT
BEGIN:STANDARD
TZOFFSETFROM:-0400
TZOFFSETTO:-0500
TZNAME:EST
DTSTART:20221106T060000
END:STANDARD
BEGIN:DAYLIGHT
TZOFFSETFROM:-0500
TZOFFSETTO:-0400
TZNAME:EDT
DTSTART:20230312T070000
END:DAYLIGHT
BEGIN:STANDARD
TZOFFSETFROM:-0400
TZOFFSETTO:-0500
TZNAME:EST
DTSTART:20231105T060000
END:STANDARD
BEGIN:DAYLIGHT
TZOFFSETFROM:-0500
TZOFFSETTO:-0400
TZNAME:EDT
DTSTART:20240310T070000
END:DAYLIGHT
BEGIN:STANDARD
TZOFFSETFROM:-0400
TZOFFSETTO:-0500
TZNAME:EST
DTSTART:20241103T060000
END:STANDARD
BEGIN:DAYLIGHT
TZOFFSETFROM:-0500
TZOFFSETTO:-0400
TZNAME:EDT
DTSTART:20250309T070000
END:DAYLIGHT
BEGIN:STANDARD
TZOFFSETFROM:-0400
TZOFFSETTO:-0500
TZNAME:EST
DTSTART:20251102T060000
END:STANDARD
BEGIN:DAYLIGHT
TZOFFSETFROM:-0500
TZOFFSETTO:-0400
TZNAME:EDT
DTSTART:20260308T070000
END:DAYLIGHT
BEGIN:STANDARD
TZOFFSETFROM:-0400
TZOFFSETTO:-0500
TZNAME:EST
DTSTART:20261101T060000
END:STANDARD
END:VTIMEZONE
BEGIN:VEVENT
DTSTART;TZID=America/New_York:20251113T180000
DTEND;TZID=America/New_York:20251113T210000
DTSTAMP:20260423T155920
CREATED:20251024T143800Z
LAST-MODIFIED:20251028T184424Z
UID:29177-1763056800-1763067600@servicebrewing.com
SUMMARY:2025 Honoring Our Veterans
DESCRIPTION:We’re excited to announce that Service Brewing will be hosting Honoring Our Veterans\, a fundraiser benefiting Mountainfilm on Tour Savannah.\nReserve your seats today! Admission is free for veterans.\n\nAs part of the evening\, Service Brewing will present a special screening of the documentary Brothers on Three – an unprecedented look at the powerful bond and unmatched culture of the West Point Army Rugby Team as they battle to defend their 2022 National Championship. Watch the trailer here!\nThe film is directed by Sean Mullin\, an award-winning filmmaker and West Point graduate\, known for Bob Trevino Likes It\, It Ain’t Over\, and Amira & Sam.\n\nFollowing the film\, Kevin Ryan\, owner of Service Brewing and former West Point rugby team member\, will join Larry Perino\, former Army Ranger\, veteran of the Battle of Mogadishu and former West Point Rugby team member for a Q&A session with the audience.\n\nUse the link to purchase or reserve a free veteran ticket today!\nTo reserve a free veteran ticket use ticket link or call/text 912-344-1278.
URL:https://servicebrewing.com/event/2025-honoring-our-veterans/
LOCATION:Service Brewing\, 574 Indian St.\, Savannah\, GA\, 31401\, United States
CATEGORIES:Beer Release,movie
ATTACH;FMTTYPE=image/jpeg:https://servicebrewing.com/wp-content/uploads/2025/10/Header-18-scaled.jpg
END:VEVENT
BEGIN:VEVENT
DTSTART;TZID=America/New_York:20221110T190000
DTEND;TZID=America/New_York:20221110T220000
DTSTAMP:20260423T155920
CREATED:20221101T012704Z
LAST-MODIFIED:20221101T012704Z
UID:25499-1668106800-1668117600@servicebrewing.com
SUMMARY:MountainFilm on Tour Savannah @ Service Brewing
DESCRIPTION:Join us for Mountainfilm on Tour on Thursday\, Nov. 10th at 7pm for a special screening of documentary films in honor of Veterans Day. Attendees can enjoy food\, drink\, and a series of fascinating documentary films in Service Brewing spacious production area. \nThe 9th Annual Honoring Our Veterans event features a playlist of seven short documentary films including: \n\nStranger at the Gate: Returning home from a long career in the U.S. Marine Corps\, Richard “Mac” McKinney found himself struggling under the weight of a ferocious rage fueled by 25 years of an indoctrinated hatred of Muslims. Desperate to take action in the name of his country\, McKinney set out to commit an unthinkable crime against his community’s mosque. His plans took an unexpected path however when he faced his enemy head-on.\nBreaking Trail: Filmmaker and Film Subject  Emily Ford sets out with a borrowed Husky sled dog\, Diggins\, to complete the 1\,200-mile Ice Age Trail in the midst of winter. Not only is she the first woman to attempt the feat\, but she is also the first LBGTQ+ person of color to embark on the adventure. As her story gathers momentum in local\, national and international press\, Emily learns she’s become a figurehead to encourage those who don’t feel like they belong in wild places — especially people of color — to spend more time in nature.\nLoon: When hiking the Appalachian Trail\, thru-hikers often choose a trail name that says something about their home or their history. Mike Freed\, now in his 80s\, chose the name Loon as a symbol of the spirit of the wild\, interconnected lakes of his Minnesota homeland. The Appalachian Trail is also where Loon had a revelation about what course of action to take with his 2\,000-acre expanse of unfragmented land in the pristine Boundary Waters.\n\n\nGeneral admission: $25. Veterans get in FREE! Please text 912.344.1278 to reserve veteran tickets or purchase at https://www.eventbrite.com/e/honoring-our-veterans-tickets-416227275987
URL:https://servicebrewing.com/event/mountainfilm-on-tour-savannah-service-brewing/
LOCATION:GA
CATEGORIES:movie
ATTACH;FMTTYPE=image/jpeg:https://servicebrewing.com/wp-content/uploads/2022/10/mountain-film.jpg
END:VEVENT
BEGIN:VEVENT
DTSTART;TZID=America/New_York:20191107T173000
DTEND;TZID=America/New_York:20191107T210000
DTSTAMP:20260423T155920
CREATED:20191022T020154Z
LAST-MODIFIED:20191022T020154Z
UID:24558-1573147800-1573160400@servicebrewing.com
SUMMARY:Mountainfilm on Tour Savannah presents\, "The River and the Wall" (FREE admission for ALL Veterans)
DESCRIPTION:Mountainfilm on Tour – Savannah\, and DIRTT will host a special screening in honor of Veterans Day on Thursday\, November 7th\, at Service Brewing Company. A social hour at 5:30 p.m. will kick-off the event; the program begins at 6:30 p.m. \nThursday\, November 7th at Service Brewing\n(574 Indian Street\, Savannah\, Georgia 31401)\nDoors open: 5:30pm for Social Hour\nProgram starts: 6:30pm \nReception will follow sponsored by Vinnie Van Go Go’s\, Kayak Kafé and Savannah Bee Company. \nTickets: $20 Admission\nFREE Admission for ALL Veterans \nShort Film: Grizzly Country\nFeature Film: The River in the Wall
URL:https://servicebrewing.com/event/mountainfilm-on-tour-savannah-presents-the-river-and-the-wall-free-admission-for-all-veterans/
LOCATION:GA
CATEGORIES:Food,movie
ATTACH;FMTTYPE=image/jpeg:https://servicebrewing.com/wp-content/uploads/2019/10/river-wall.jpg
END:VEVENT
END:VCALENDAR