BEGIN:VCALENDAR
VERSION:2.0
PRODID:-//Service Brewing - ECPv6.15.20//NONSGML v1.0//EN
CALSCALE:GREGORIAN
METHOD:PUBLISH
X-WR-CALNAME:Service Brewing
X-ORIGINAL-URL:https://servicebrewing.com
X-WR-CALDESC:Events for Service Brewing
REFRESH-INTERVAL;VALUE=DURATION:PT1H
X-Robots-Tag:noindex
X-PUBLISHED-TTL:PT1H
BEGIN:VTIMEZONE
TZID:America/New_York
BEGIN:DAYLIGHT
TZOFFSETFROM:-0500
TZOFFSETTO:-0400
TZNAME:EDT
DTSTART:20250309T070000
END:DAYLIGHT
BEGIN:STANDARD
TZOFFSETFROM:-0400
TZOFFSETTO:-0500
TZNAME:EST
DTSTART:20251102T060000
END:STANDARD
BEGIN:DAYLIGHT
TZOFFSETFROM:-0500
TZOFFSETTO:-0400
TZNAME:EDT
DTSTART:20260308T070000
END:DAYLIGHT
BEGIN:STANDARD
TZOFFSETFROM:-0400
TZOFFSETTO:-0500
TZNAME:EST
DTSTART:20261101T060000
END:STANDARD
BEGIN:DAYLIGHT
TZOFFSETFROM:-0500
TZOFFSETTO:-0400
TZNAME:EDT
DTSTART:20270314T070000
END:DAYLIGHT
BEGIN:STANDARD
TZOFFSETFROM:-0400
TZOFFSETTO:-0500
TZNAME:EST
DTSTART:20271107T060000
END:STANDARD
BEGIN:DAYLIGHT
TZOFFSETFROM:-0500
TZOFFSETTO:-0400
TZNAME:EDT
DTSTART:20280312T070000
END:DAYLIGHT
BEGIN:STANDARD
TZOFFSETFROM:-0400
TZOFFSETTO:-0500
TZNAME:EST
DTSTART:20281105T060000
END:STANDARD
END:VTIMEZONE
BEGIN:VEVENT
DTSTART;TZID=America/New_York:20260425T120000
DTEND;TZID=America/New_York:20270425T130000
DTSTAMP:20260423T063909
CREATED:20251212T192455Z
LAST-MODIFIED:20260422T205706Z
UID:29359-1777118400-1808658000@servicebrewing.com
SUMMARY:Beer & Yoga - Last Saturday of Every Month
DESCRIPTION:Earn that beer with Savannah Power Yoga every month at Service Brewing.\n$15 includes a 60 min vinyasa yoga class and one pint of BEER! Be sure to bring your mat and feel free to come as early as 11:30AM.\nClass starts promptly at noon. Our little brew cat\, Black Hawk\, will be onsite checking poses and looking for back scratches. Nama-stay for a beer!\n\n2026 Dates:Jan 31st | Feb 28th | March 28th | April 25th | May 30th | June 27th | July 18th | Aug 29th | Sept 26th | Oct 31st | Nov 28th | Dec 19th
URL:https://servicebrewing.com/event/beer-yoga-savannah-2026/
LOCATION:Service Brewing\, 574 Indian St.\, Savannah\, GA\, 31401\, United States
CATEGORIES:Event,Wellness,Yoga
ATTACH;FMTTYPE=image/jpeg:https://servicebrewing.com/wp-content/uploads/2025/12/Header-29.jpg
END:VEVENT
BEGIN:VEVENT
DTSTART;TZID=America/New_York:20260501T000000
DTEND;TZID=America/New_York:20260531T235959
DTSTAMP:20260423T063909
CREATED:20260422T211548Z
LAST-MODIFIED:20260422T211548Z
UID:29587-1777593600-1780271999@servicebrewing.com
SUMMARY:May Food Trucks & Live Music Schedule
DESCRIPTION:Check out the food trucks that are going to be here serving up snacks at Service Brewing for the month of May! \n5/1 | Oh Crepe! | 5-8:30pm \n5/2 | Bayou Cafe | 12:30-8pm \n5/3 | Oh Crepe! | 12:30-5pm \n5/8 | Red Taco Truck | 5-8:30pm \n5/9 | Orale Tacos | 12:30-8pm \n5/15 | Naked Dog | 5-8:30pm \n5/16 | Orale Tacos | 12:30-8pm \n5/17 | Krazian | 12:30-5pm \n5/21 | Orale Tacos | 5-8:30pm \n5/23 | Red Taco Truck | 12:30-8pm \n5/28 | Krazian | 5-8:30pm \n5/29 | Orale Tacos | 5-8:30pm \n5/30 | Orale Tacos | 12:30-8pm \n  \nCheck out our Live Music for the month of May! Bring in spring with live performances all month long! \n5/1 | Swamptooth | 6-8:30pm \n5/3 | Eric Britt | 2:30-5pm \n5/8 | Swamptooth | 6-8:30pm \n5/15 | Cory and Friends | 6-8:30pm \n5/17 | Susanna Kennedy | 2:30-5pm \n5/22 | Swamptooth | 6-8:30pm \n5/24 | Justin Vreeland | 2:30-5pm \n5/29 | Evan Rose and Friends | 6-8:30pm \n5/31 | Nathan Hager | 2:30-5pm
URL:https://servicebrewing.com/event/may-food-trucks-live-music-schedule-2026/
LOCATION:Service Brewing\, 574 Indian St.\, Savannah\, GA\, 31401\, United States
CATEGORIES:Food,Live Music
ATTACH;FMTTYPE=image/jpeg:https://servicebrewing.com/wp-content/uploads/2026/04/Food-Truck-Banner-May26-scaled.jpg
END:VEVENT
END:VCALENDAR